BEGIN:VCALENDAR
METHOD:PUBLISH
PRODID:-//Weblication CMS
VERSION:2.0
BEGIN:VEVENT
SUMMARY:Weihnachtsmarkt in Esselborn
DTSTART:20231125T150000
DTEND:20231125T000000
DESCRIPTION:
LOCATION:Esselborn
UID:https://www.wahlheim-rheinhessen.de/wa/veranstaltungen/termine/Weihnachtsmarkt-in-Esselborn.php
URL:https://www.wahlheim-rheinhessen.de/wa/veranstaltungen/termine/Weihnachtsmarkt-in-Esselborn.php
END:VEVENT
END:VCALENDAR