BEGIN:VCALENDAR
METHOD:PUBLISH
PRODID:-//Weblication CMS
VERSION:2.0
BEGIN:VEVENT
SUMMARY:Weihnachtsfeier in der „Sandmühle“ Wahlheim
DTSTART:20231208T180000
DTEND:20231208T000000
DESCRIPTION:
LOCATION:Wahlheim
UID:https://www.wahlheim-rheinhessen.de/wa/veranstaltungen/termine/Weihnachtsfeier-in-der-Sandmuehle-Wahlheim.php
URL:https://www.wahlheim-rheinhessen.de/wa/veranstaltungen/termine/Weihnachtsfeier-in-der-Sandmuehle-Wahlheim.php
END:VEVENT
END:VCALENDAR