BEGIN:VCALENDAR
METHOD:PUBLISH
PRODID:-//Weblication CMS
VERSION:2.0
BEGIN:VEVENT
SUMMARY:Informationsabend über das Glasfaserprojekt
DTSTART:20231129T190000
DTEND:20231129T235959
DESCRIPTION:
LOCATION:Freimersheim
UID:https://www.wahlheim-rheinhessen.de/wa/veranstaltungen/termine/Informationsabend-ueber-das-Glasfaserprojekt.php
URL:https://www.wahlheim-rheinhessen.de/wa/veranstaltungen/termine/Informationsabend-ueber-das-Glasfaserprojekt.php
END:VEVENT
END:VCALENDAR