BEGIN:VCALENDAR
METHOD:PUBLISH
PRODID:-//Weblication CMS
VERSION:2.0
BEGIN:VEVENT
SUMMARY:Glühwein am Weinbrunnen neben der Turnhalle
DTSTART:20231203T163000
DTEND:20231203T000000
DESCRIPTION:
LOCATION:Wahlheim
UID:https://www.wahlheim-rheinhessen.de/wa/veranstaltungen/termine/Gluehwein-am-Weinbrunnen-neben-der-Turnhalle.php
URL:https://www.wahlheim-rheinhessen.de/wa/veranstaltungen/termine/Gluehwein-am-Weinbrunnen-neben-der-Turnhalle.php
END:VEVENT
END:VCALENDAR