BEGIN:VCALENDAR
METHOD:PUBLISH
PRODID:-//Weblication CMS
VERSION:2.0
BEGIN:VEVENT
SUMMARY:Adventskaffee der Seniorinnen und Senioren ab 65 Jahre
DTSTART:20231203T140000
DTEND:20231203T000000
DESCRIPTION:
LOCATION:Wahlheim
UID:https://www.wahlheim-rheinhessen.de/wa/veranstaltungen/termine/Adventskaffee-der-Seniorinnen-und-Senioren-ab-65-Jahre.php
URL:https://www.wahlheim-rheinhessen.de/wa/veranstaltungen/termine/Adventskaffee-der-Seniorinnen-und-Senioren-ab-65-Jahre.php
END:VEVENT
END:VCALENDAR