BEGIN:VCALENDAR
METHOD:PUBLISH
PRODID:-//Weblication CMS
VERSION:2.0
BEGIN:VEVENT
SUMMARY:Adventsglühen an der evangelischen Kirche
DTSTART:20231217T150000
DTEND:20231217T000000
DESCRIPTION:
LOCATION:Wahlheim
UID:https://www.wahlheim-rheinhessen.de/wa/veranstaltungen/termine/Adventsgluehen-an-der-evangelischen-Kirche.php
URL:https://www.wahlheim-rheinhessen.de/wa/veranstaltungen/termine/Adventsgluehen-an-der-evangelischen-Kirche.php
END:VEVENT
END:VCALENDAR